BEGIN:VCALENDAR
VERSION:2.0
PRODID:-//PARTYIN - ECPv6.15.16//NONSGML v1.0//EN
CALSCALE:GREGORIAN
METHOD:PUBLISH
X-WR-CALNAME:PARTYIN
X-ORIGINAL-URL:https://partyin.am
X-WR-CALDESC:Events for PARTYIN
REFRESH-INTERVAL;VALUE=DURATION:PT1H
X-Robots-Tag:noindex
X-PUBLISHED-TTL:PT1H
BEGIN:VTIMEZONE
TZID:Asia/Dubai
BEGIN:STANDARD
TZOFFSETFROM:+0400
TZOFFSETTO:+0400
TZNAME:+04
DTSTART:20250101T000000
END:STANDARD
END:VTIMEZONE
BEGIN:VEVENT
DTSTART;TZID=Asia/Dubai:20260307T203000
DTEND;TZID=Asia/Dubai:20260307T230000
DTSTAMP:20260422T120447
CREATED:20260227T144745Z
LAST-MODIFIED:20260227T144745Z
UID:30254-1772915400-1772924400@partyin.am
SUMMARY:Dave Geodakyan Quartet. The Birthday Party
DESCRIPTION:Dave Geodakyan Quartet. The Birthday Party \n\n\n\nHayk Grigoryan – TrumpetSamvel Gasparyan – PianoDave Geodakyan – BassHerbert Arustamyan – Drums \n\n\n\nEntrance fee 5000 AMD \n\n\n\nFor more information & reservation callTel. +37499586536 +37477586573 \n\n\n\nfollow the link to buy the ticketshttps://ulikhanyanclub.com/en/buy-ticket?mibextid=Zxz2cZ \n\n\n\n#jazz #nightlife #yerevan #wine #livemusic #music
URL:https://partyin.am/event/dave-geodakyan-quartet-the-birthday-party/
LOCATION:Yerevan
ATTACH;FMTTYPE=image/jpeg:https://partyin.am/wp-content/uploads/2026/02/Dave-Geodakyan-Quartet.-The-Birthday-Party.jpg
END:VEVENT
BEGIN:VEVENT
DTSTART;TZID=Asia/Dubai:20260308T203000
DTEND;TZID=Asia/Dubai:20260308T230000
DTSTAMP:20260422T120447
CREATED:20260227T144514Z
LAST-MODIFIED:20260227T144514Z
UID:30251-1773001800-1773010800@partyin.am
SUMMARY:Spring Dialog
DESCRIPTION:Spring Dialog \n\n\n\nJanna Davtyan – vocalElen Poghosyan – pianoMaria Aristakesyan – celloAram Tsaturyan – guitarHayk Simonyan – drumsTigran Suchyan – trumpet \n\n\n\nEntrance fee 7000 AMD \n\n\n\nFor more information & reservation callTel. +37499586536 +37477586573 \n\n\n\nfollow the link to buy the ticketshttps://ulikhanyanclub.com/en/buy-ticket?mibextid=Zxz2cZ \n\n\n\n#jazz #nightlife #yerevan #wine #livemusic #music
URL:https://partyin.am/event/spring-dialog/
LOCATION:Yerevan
ATTACH;FMTTYPE=image/jpeg:https://partyin.am/wp-content/uploads/2026/02/Spring-Dialog.jpg
END:VEVENT
END:VCALENDAR