BEGIN:VCALENDAR
VERSION:2.0
PRODID:-//PARTYIN - ECPv6.15.16//NONSGML v1.0//EN
CALSCALE:GREGORIAN
METHOD:PUBLISH
X-WR-CALNAME:PARTYIN
X-ORIGINAL-URL:https://partyin.am
X-WR-CALDESC:Events for PARTYIN
REFRESH-INTERVAL;VALUE=DURATION:PT1H
X-Robots-Tag:noindex
X-PUBLISHED-TTL:PT1H
BEGIN:VTIMEZONE
TZID:Asia/Dubai
BEGIN:STANDARD
TZOFFSETFROM:+0400
TZOFFSETTO:+0400
TZNAME:+04
DTSTART:20240101T000000
END:STANDARD
END:VTIMEZONE
BEGIN:VEVENT
DTSTART;TZID=Asia/Dubai:20250704T190000
DTEND;TZID=Asia/Dubai:20250704T210000
DTSTAMP:20260422T134806
CREATED:20250521T113637Z
LAST-MODIFIED:20250521T114051Z
UID:29840-1751655600-1751662800@partyin.am
SUMMARY:Zemfira
DESCRIPTION:Երգչուհի\, երգահան Զեմֆիրա Ռամազանովան ելույթ կունենա «Հրազդան» մարզադաշտում։ Արտիստի համերգը նախատեսված է հուլիսի 4-ին: Այս մասին տեղեկանում ենք Զեմֆիրայի պաշտոնական կայքէջերից: \n\n\n\nԴեռ 2012-ին Զեմֆիրան հայտնել էր\, որ ցանկանում է ելույթ ունենալ Հայաստանում: \n\n\n\n«Սակայն\, ցավոք\, այնտեղ համապատասխան ակումբ չկա»\,- իր հայ երկրպագուներին ասել էր նա Թբիլիսիում տեղի ունեցած համերգից հետո: \n\n\n\nԲաց մի՛ թողեք հնարավորությունը լսելու և վայելելու սիրելի կատարումները կենդանի երաժշտությամբ։ \n\n\n\nՏոմսերը կարող եք ձեռք բերել իր պաշտոնական՝ zemfira.world կայքից:
URL:https://partyin.am/event/zemfira/
LOCATION:Karen Demirchyan Sports and Concerts Complex\, Tsitsernakaberd Park\, 1 Building\, Yerevan\, Yerevan\, Armenia
ATTACH;FMTTYPE=image/jpeg:https://partyin.am/wp-content/uploads/2025/05/Event-media-image.jpg
END:VEVENT
BEGIN:VEVENT
DTSTART;TZID=Asia/Dubai:20250628T170000
DTEND;TZID=Asia/Dubai:20250628T210000
DTSTAMP:20260422T134806
CREATED:20250521T122742Z
LAST-MODIFIED:20250521T123813Z
UID:29853-1751130000-1751144400@partyin.am
SUMMARY:Yerevan Color Festival 2025
DESCRIPTION:Yerevan Color Festival 2025Պատրա՞ստ ես պայթել գույների մեջ ։ Հունիսի 28-ին  Երևանը վերածվելու է մեկ մեծ գունավառ խելագարության։ Երաժշտություն \, պար \, փոշի՝ բոլոր կողմերից ու ժպիտներ՝ ամենուր։Միացիր\, գունավորիր ու վայելիր վայբը! Մանրամասները շուտով։ Կազմակերպիչ՝ Arm Events։#ColorFestivalYerevan #ArmEvents#ԳույներիՓառատոն#Երևան2025#ԳույնԵՆք
URL:https://partyin.am/event/yerevan-color-festival-2025/
ATTACH;FMTTYPE=image/jpeg:https://partyin.am/wp-content/uploads/2025/05/CF.jpg
END:VEVENT
BEGIN:VEVENT
DTSTART;TZID=Asia/Dubai:20250622T193000
DTEND;TZID=Asia/Dubai:20250622T213000
DTSTAMP:20260422T134806
CREATED:20250622T005639Z
LAST-MODIFIED:20250622T010013Z
UID:30074-1750620600-1750627800@partyin.am
SUMMARY:Symphonic Folk
DESCRIPTION:On July 22\, experience the world premiere of Symphonic Folk in Armenia\, a groundbreaking musical event by acclaimed producer Serouj Baghdassarian (C-Rouge) in collaboration with the Armenian State Symphony Orchestra. \n\n\n\nThis unique concert fuses the soulful sounds of the shvi\, duduk\, zurna\, and dhol with the grandeur of a symphonic orchestra\, reimagining timeless Armenian folk melodies with a bold\, cinematic modern twist. \n\n\n\nThis event is presented in partnership with Hamazkayin\, this event is part of the Hamazkayin Youth Forum’s 30th anniversary celebrations — a powerful tribute to Armenian heritage\, unity\, and artistic innovation. \n\n\n\nProgram: \n\n\n\n\nYeraz\n\n\n\nVengeance\n\n\n\nInvincible Nation\n\n\n\nOror Im Bala\n\n\n\nShalakho\n\n\n\nChildren of Goght\n\n\n\nMother of Light\n\n\n\nNightingale’s Lullaby\n\n\n\nHeroes of Musa Dagh\n\n\n\nFreedom Fighters\n\n\n\nDle Yaman\n\n\n\nKingdom of Cilicia\n\n\n\nNemesis\n\n\n\nMusa Ler Dabki\n\n\n\nDaredevils of Sassoun\n\n\n\nKochari\n\n\n\n\n\n\n\n\nArrangements: Serouj Baghdassarian (C-Rouge)Orchestrations: Martin Ulikhanyan \n\n\n\nConductor: Harutyun ArzumanyanARMENIAN STATE SYMPHONY ORCHESTRA(Artistic Director and Principal Conductor: Sergey Smbatyan) \n\n\n\nYEREVAN STATE CHAMBER CHOIR(Artistic Director and Choirmaster: Kristina Voskanyan) \n\n\n\n“KAMERTON” VOCAL STUDIO(Artistic Director: Naira Gyurjinyan) \n\n\n\n*Admission permitted for children aged 6 and above.
URL:https://partyin.am/event/symphonic-folk/
LOCATION:Karen Demirchyan Sports and Concerts Complex\, Tsitsernakaberd Park\, 1 Building\, Yerevan\, Yerevan\, Armenia
END:VEVENT
END:VCALENDAR