BEGIN:VCALENDAR
VERSION:2.0
PRODID:-//PARTYIN - ECPv6.15.16//NONSGML v1.0//EN
CALSCALE:GREGORIAN
METHOD:PUBLISH
X-WR-CALNAME:PARTYIN
X-ORIGINAL-URL:https://partyin.am
X-WR-CALDESC:Events for PARTYIN
REFRESH-INTERVAL;VALUE=DURATION:PT1H
X-Robots-Tag:noindex
X-PUBLISHED-TTL:PT1H
BEGIN:VTIMEZONE
TZID:Asia/Dubai
BEGIN:STANDARD
TZOFFSETFROM:+0400
TZOFFSETTO:+0400
TZNAME:+04
DTSTART:20240101T000000
END:STANDARD
END:VTIMEZONE
BEGIN:VEVENT
DTSTART;TZID=Asia/Dubai:20251115T190000
DTEND;TZID=Asia/Dubai:20251115T230000
DTSTAMP:20260422T061547
CREATED:20251014T134426Z
LAST-MODIFIED:20251014T134427Z
UID:30172-1763233200-1763247600@partyin.am
SUMMARY:Armenchik
DESCRIPTION:On November 15\, 2025\, one of the most famous Armenian pop singers\, ARMENCHIK\, will hold a solo concert at the Karen Demirchyan Sports and Concert Complex. \n\n\n\nThe artist has performed solo concerts around the world in some of the most prestigious venues. Following his European tour and spectacular shows in Moscow and Los Angeles\, get ready to welcome in YEREVAN a dazzling and fully immersive concert show\, featuring top-tier lighting and sound equipment\, beloved hit songs\, and new releases. \n\n\n\nLive performance with the accompaniment of the best musicians. \n\n\n\nPrepare to enjoy a specially staged show in a stunning world-class festive atmosphere! \n\n\n\nDoors open: 17:00Concert starts: 19:00
URL:https://partyin.am/event/armenchik/
LOCATION:Karen Demirchyan Sports and Concerts Complex\, Tsitsernakaberd Park\, 1 Building\, Yerevan\, Yerevan\, Armenia
ATTACH;FMTTYPE=image/jpeg:https://partyin.am/wp-content/uploads/2025/10/PARTYIN-ARMENCHIK.jpg
END:VEVENT
END:VCALENDAR