BEGIN:VCALENDAR
VERSION:2.0
PRODID:-//PARTYIN - ECPv6.15.16//NONSGML v1.0//EN
CALSCALE:GREGORIAN
METHOD:PUBLISH
X-ORIGINAL-URL:https://partyin.am
X-WR-CALDESC:Events for PARTYIN
REFRESH-INTERVAL;VALUE=DURATION:PT1H
X-Robots-Tag:noindex
X-PUBLISHED-TTL:PT1H
BEGIN:VTIMEZONE
TZID:Asia/Dubai
BEGIN:STANDARD
TZOFFSETFROM:+0400
TZOFFSETTO:+0400
TZNAME:+04
DTSTART:20240101T000000
END:STANDARD
END:VTIMEZONE
BEGIN:VEVENT
DTSTART;TZID=Asia/Dubai:20251114T200000
DTEND;TZID=Asia/Dubai:20251114T210000
DTSTAMP:20260422T061207
CREATED:20251014T133724Z
LAST-MODIFIED:20251014T133725Z
UID:30169-1763150400-1763154000@partyin.am
SUMMARY:Sayat-Nova: The Armenian Love Singer of the World
DESCRIPTION:The Cafesjian Center for the Arts presents: \n\n\n\nSayat-Nova: The Armenian Love Singer of the WorldConcert–Performance \n\n\n\nDirected & Written by:Aram Hovhannisyan\, Actor & Director \n\n\n\nArtistic and Musical Design:Aram Hovhannisyan \n\n\n\n“Dream of Love and The Three Graces”Maria\, Myrielle & Maeva Hovhannisyan \n\n\n\nProducer:Marianna Frunjyan \n\n\n\nThe concert starts at 20:00Ticket price: 5.000 AMDFor reservations and inquiries\, please call +374 10 567262.Only CCA Members can reserve a table through a phone call. \n\n\n\nPlease remember we have a special reservation service – you can SELECT YOUR FAVORITE TABLE at the Special Events Auditorium! Just stop by the Visitor Center to select the table you prefer as you buy tickets. We shall make sure your favorite table is reserved for you! \n\n\n\nBecome a member of the Cafesjian Center for the Arts and receive a 10% discount on tickets to all concerts and merchandise in the Museum Store\, except for local crafts.
URL:https://partyin.am/event/sayat-nova-the-armenian-love-singer-of-the-world/
LOCATION:Cafesjian Center for the Arts (Cascade complex)\, 10 Tamanyan Street\, Yerevan\, Armenia
ATTACH;FMTTYPE=image/jpeg:https://partyin.am/wp-content/uploads/2025/10/PARTYIN-Sayat-Nova-The-Armenian-Love-Singer-of-the-World.jpg
END:VEVENT
END:VCALENDAR