BEGIN:VCALENDAR
VERSION:2.0
PRODID:-//PARTYIN - ECPv6.15.16//NONSGML v1.0//EN
CALSCALE:GREGORIAN
METHOD:PUBLISH
X-ORIGINAL-URL:https://partyin.am
X-WR-CALDESC:Events for PARTYIN
REFRESH-INTERVAL;VALUE=DURATION:PT1H
X-Robots-Tag:noindex
X-PUBLISHED-TTL:PT1H
BEGIN:VTIMEZONE
TZID:Asia/Dubai
BEGIN:STANDARD
TZOFFSETFROM:+0400
TZOFFSETTO:+0400
TZNAME:+04
DTSTART:20240101T000000
END:STANDARD
END:VTIMEZONE
BEGIN:VEVENT
DTSTART;TZID=Asia/Dubai:20251102T193000
DTEND;TZID=Asia/Dubai:20251102T203000
DTSTAMP:20260422T061608
CREATED:20251014T132830Z
LAST-MODIFIED:20251014T132843Z
UID:30161-1762111800-1762115400@partyin.am
SUMMARY:Closing Concert of the 17th Yerevan International Music Festival
DESCRIPTION:The 17th Yerevan International Music Festival will culminate with two monumental masterpieces: \n\n\n\n L. v. Beethoven — Piano Concerto No. 5 F. Liszt — A Faust Symphony \n\n\n\n On stage: prize-winning pianist Eva Gevorgyan\, the Armenian National Academic Choir\, and the Armenian National Philharmonic Orchestra conducted by Maestro Eduard Topchjan. \n\n\n\n Get your tickets online: khachaturianhall.am \n\n\n\n At the Concert Hall box office Or reserve by phone: +374 77 677 226
URL:https://partyin.am/event/closing-concert-of-the-17th-yerevan-international-music-festival/
LOCATION:Aram Khachaturian Concert Hall
ATTACH;FMTTYPE=image/jpeg:https://partyin.am/wp-content/uploads/2025/10/PARTYIN-Closing-Concert-of-the-17th-Yerevan-International-Music-Festival.jpg
END:VEVENT
END:VCALENDAR